BEGIN:VCALENDAR
VERSION:2.0
PRODID:-//Stadtkapelle Eichstätt e.V. - ECPv6.14.2//NONSGML v1.0//EN
CALSCALE:GREGORIAN
METHOD:PUBLISH
X-WR-CALNAME:Stadtkapelle Eichstätt e.V.
X-ORIGINAL-URL:https://www.stadtkapelle-eichstaett.de
X-WR-CALDESC:Veranstaltungen für Stadtkapelle Eichstätt e.V.
REFRESH-INTERVAL;VALUE=DURATION:PT1H
X-Robots-Tag:noindex
X-PUBLISHED-TTL:PT1H
BEGIN:VTIMEZONE
TZID:Europe/Berlin
BEGIN:DAYLIGHT
TZOFFSETFROM:+0100
TZOFFSETTO:+0200
TZNAME:CEST
DTSTART:20220327T010000
END:DAYLIGHT
BEGIN:STANDARD
TZOFFSETFROM:+0200
TZOFFSETTO:+0100
TZNAME:CET
DTSTART:20221030T010000
END:STANDARD
END:VTIMEZONE
BEGIN:VEVENT
DTSTART;TZID=Europe/Berlin:20220529T150000
DTEND;TZID=Europe/Berlin:20220529T210000
DTSTAMP:20260424T054430
CREATED:20220130T154834Z
LAST-MODIFIED:20220130T154834Z
UID:10000209-1653836400-1653858000@www.stadtkapelle-eichstaett.de
SUMMARY:Konzert
DESCRIPTION:
URL:https://www.stadtkapelle-eichstaett.de/event/konzert/
LOCATION:Eichstätt\, 85072\, Deutschland
CATEGORIES:Jugendstadtkapelle,Musikfinken,Stadtkapelle
GEO:48.8910305;11.2037016
END:VEVENT
END:VCALENDAR