BEGIN:VCALENDAR
VERSION:2.0
PRODID:-//Stadtkapelle Eichstätt e.V. - ECPv6.14.2//NONSGML v1.0//EN
CALSCALE:GREGORIAN
METHOD:PUBLISH
X-ORIGINAL-URL:https://www.stadtkapelle-eichstaett.de
X-WR-CALDESC:Veranstaltungen für Stadtkapelle Eichstätt e.V.
REFRESH-INTERVAL;VALUE=DURATION:PT1H
X-Robots-Tag:noindex
X-PUBLISHED-TTL:PT1H
BEGIN:VTIMEZONE
TZID:Europe/Berlin
BEGIN:DAYLIGHT
TZOFFSETFROM:+0100
TZOFFSETTO:+0200
TZNAME:CEST
DTSTART:20190331T010000
END:DAYLIGHT
BEGIN:STANDARD
TZOFFSETFROM:+0200
TZOFFSETTO:+0100
TZNAME:CET
DTSTART:20191027T010000
END:STANDARD
BEGIN:DAYLIGHT
TZOFFSETFROM:+0100
TZOFFSETTO:+0200
TZNAME:CEST
DTSTART:20200329T010000
END:DAYLIGHT
BEGIN:STANDARD
TZOFFSETFROM:+0200
TZOFFSETTO:+0100
TZNAME:CET
DTSTART:20201025T010000
END:STANDARD
BEGIN:DAYLIGHT
TZOFFSETFROM:+0100
TZOFFSETTO:+0200
TZNAME:CEST
DTSTART:20210328T010000
END:DAYLIGHT
BEGIN:STANDARD
TZOFFSETFROM:+0200
TZOFFSETTO:+0100
TZNAME:CET
DTSTART:20211031T010000
END:STANDARD
BEGIN:DAYLIGHT
TZOFFSETFROM:+0100
TZOFFSETTO:+0200
TZNAME:CEST
DTSTART:20220327T010000
END:DAYLIGHT
BEGIN:STANDARD
TZOFFSETFROM:+0200
TZOFFSETTO:+0100
TZNAME:CET
DTSTART:20221030T010000
END:STANDARD
END:VTIMEZONE
BEGIN:VEVENT
DTSTART;TZID=Europe/Berlin:20220403T170000
DTEND;TZID=Europe/Berlin:20220403T180000
DTSTAMP:20260424T091944
CREATED:20210728T181748Z
LAST-MODIFIED:20220131T192706Z
UID:10000206-1649005200-1649008800@www.stadtkapelle-eichstaett.de
SUMMARY:Klarinetten Konzert
DESCRIPTION:  \n 
URL:https://www.stadtkapelle-eichstaett.de/event/klarinetten-konzert/
LOCATION:Asthe\, Residenzpl. 17\, Eichstätt\, 85072\, Deutschland
CATEGORIES:Stadtkapelle
GEO:48.8908878;11.1836289
X-APPLE-STRUCTURED-LOCATION;VALUE=URI;X-ADDRESS=Asthe Residenzpl. 17 Eichstätt 85072 Deutschland;X-APPLE-RADIUS=500;X-TITLE=Residenzpl. 17:geo:11.1836289,48.8908878
END:VEVENT
BEGIN:VEVENT
DTSTART;TZID=Europe/Berlin:20220312T180000
DTEND;TZID=Europe/Berlin:20220312T230000
DTSTAMP:20260424T091944
CREATED:20211102T185831Z
LAST-MODIFIED:20211102T185831Z
UID:10000077-1647108000-1647126000@www.stadtkapelle-eichstaett.de
SUMMARY:Bockbierfest
DESCRIPTION:Besetzung: Stadtkapelle \nKleidung: Tracht \nTreffpunkt: 17:45 Uhr \nSpielbeginn: 18:00 Uhr \nNotenständer mitbringen!
URL:https://www.stadtkapelle-eichstaett.de/event/bockbierfest-2/
LOCATION:Asthe\, Residenzpl. 17\, Eichstätt\, 85072\, Deutschland
CATEGORIES:Stadtkapelle
GEO:48.8908878;11.1836289
X-APPLE-STRUCTURED-LOCATION;VALUE=URI;X-ADDRESS=Asthe Residenzpl. 17 Eichstätt 85072 Deutschland;X-APPLE-RADIUS=500;X-TITLE=Residenzpl. 17:geo:11.1836289,48.8908878
END:VEVENT
BEGIN:VEVENT
DTSTART;TZID=Europe/Berlin:20220311T180000
DTEND;TZID=Europe/Berlin:20220311T230000
DTSTAMP:20260424T091944
CREATED:20211102T185757Z
LAST-MODIFIED:20211102T185757Z
UID:10000076-1647021600-1647039600@www.stadtkapelle-eichstaett.de
SUMMARY:Bockbierfest
DESCRIPTION:Besetzung: Stadtkapelle \nKleidung: Tracht \nTreffpunkt: 17:45 Uhr \nSpielbeginn: 18:00 Uhr \nNotenständer mitbringen!
URL:https://www.stadtkapelle-eichstaett.de/event/bockbierfest/
LOCATION:Asthe\, Residenzpl. 17\, Eichstätt\, 85072\, Deutschland
CATEGORIES:Stadtkapelle
GEO:48.8908878;11.1836289
X-APPLE-STRUCTURED-LOCATION;VALUE=URI;X-ADDRESS=Asthe Residenzpl. 17 Eichstätt 85072 Deutschland;X-APPLE-RADIUS=500;X-TITLE=Residenzpl. 17:geo:11.1836289,48.8908878
END:VEVENT
BEGIN:VEVENT
DTSTART;TZID=Europe/Berlin:20220114T180000
DTEND;TZID=Europe/Berlin:20220114T210000
DTSTAMP:20260424T091944
CREATED:20211102T190453Z
LAST-MODIFIED:20211102T190453Z
UID:10000080-1642183200-1642194000@www.stadtkapelle-eichstaett.de
SUMMARY:Neujahrsempfang Stadt Eichstätt
DESCRIPTION:Besetzung: Stadtkapelle \nKleidung: Tracht \nTreffpunkt: 18:45 Uhr \nSpielbeginn: 19:00 Uhr \nNotenständer mitbringen!
URL:https://www.stadtkapelle-eichstaett.de/event/neujahrsempfang-stadt-eichstaett/
LOCATION:Asthe\, Residenzpl. 17\, Eichstätt\, 85072\, Deutschland
CATEGORIES:Stadtkapelle
GEO:48.8908878;11.1836289
X-APPLE-STRUCTURED-LOCATION;VALUE=URI;X-ADDRESS=Asthe Residenzpl. 17 Eichstätt 85072 Deutschland;X-APPLE-RADIUS=500;X-TITLE=Residenzpl. 17:geo:11.1836289,48.8908878
END:VEVENT
BEGIN:VEVENT
DTSTART;TZID=Europe/Berlin:20200307T190000
DTEND;TZID=Europe/Berlin:20200307T230000
DTSTAMP:20260424T091944
CREATED:20190827T164909Z
LAST-MODIFIED:20190827T164909Z
UID:10000184-1583607600-1583622000@www.stadtkapelle-eichstaett.de
SUMMARY:Bockbierfest Samstag
DESCRIPTION:Besetzung: BB \nKleidung: Tracht \nTreffpunkt: 19:00 Uhr \nSpielbeginn: 19:30 Uhr \nNotenständer mitbringen!
URL:https://www.stadtkapelle-eichstaett.de/event/bockbierfest-samstag/
LOCATION:Asthe\, Residenzpl. 17\, Eichstätt\, 85072\, Deutschland
CATEGORIES:Stadtkapelle
GEO:48.8908878;11.1836289
X-APPLE-STRUCTURED-LOCATION;VALUE=URI;X-ADDRESS=Asthe Residenzpl. 17 Eichstätt 85072 Deutschland;X-APPLE-RADIUS=500;X-TITLE=Residenzpl. 17:geo:11.1836289,48.8908878
END:VEVENT
BEGIN:VEVENT
DTSTART;TZID=Europe/Berlin:20200306T190000
DTEND;TZID=Europe/Berlin:20200306T230000
DTSTAMP:20260424T091944
CREATED:20190827T164818Z
LAST-MODIFIED:20190827T164818Z
UID:10000183-1583521200-1583535600@www.stadtkapelle-eichstaett.de
SUMMARY:Bockbierfest Freitag
DESCRIPTION:Besetzung: BB \nKleidung: Tracht \nTreffpunkt: 19:00 Uhr \nSpielbeginn: 19:30 Uhr \nNotenständer mitbringen!
URL:https://www.stadtkapelle-eichstaett.de/event/bockbierfest-freitag/
LOCATION:Asthe\, Residenzpl. 17\, Eichstätt\, 85072\, Deutschland
CATEGORIES:Stadtkapelle
GEO:48.8908878;11.1836289
X-APPLE-STRUCTURED-LOCATION;VALUE=URI;X-ADDRESS=Asthe Residenzpl. 17 Eichstätt 85072 Deutschland;X-APPLE-RADIUS=500;X-TITLE=Residenzpl. 17:geo:11.1836289,48.8908878
END:VEVENT
BEGIN:VEVENT
DTSTART;TZID=Europe/Berlin:20200125T103000
DTEND;TZID=Europe/Berlin:20200125T130000
DTSTAMP:20260424T091944
CREATED:20191216T160552Z
LAST-MODIFIED:20191216T160552Z
UID:10000197-1579948200-1579957200@www.stadtkapelle-eichstaett.de
SUMMARY:Neujahrsempfang der Stadt Eichstätt
DESCRIPTION:Besetzung: Alle \nKleidung: Tracht \nTreffpunkt: 10:00 Uhr \nSpielbeginn: 10:30 Uhr \nMarschgabel mitbringen!
URL:https://www.stadtkapelle-eichstaett.de/event/neujahrsempfang-der-stadt-eichstaett-2/
LOCATION:Asthe\, Residenzpl. 17\, Eichstätt\, 85072\, Deutschland
CATEGORIES:Stadtkapelle
GEO:48.8908878;11.1836289
X-APPLE-STRUCTURED-LOCATION;VALUE=URI;X-ADDRESS=Asthe Residenzpl. 17 Eichstätt 85072 Deutschland;X-APPLE-RADIUS=500;X-TITLE=Residenzpl. 17:geo:11.1836289,48.8908878
END:VEVENT
BEGIN:VEVENT
DTSTART;TZID=Europe/Berlin:20200112T163000
DTEND;TZID=Europe/Berlin:20200112T193000
DTSTAMP:20260424T091944
CREATED:20191210T180713Z
LAST-MODIFIED:20200104T131421Z
UID:10000196-1578846600-1578857400@www.stadtkapelle-eichstaett.de
SUMMARY:CSU Neujahrsempfang
DESCRIPTION:Besetzung: Alle \nKleidung: Tracht \nTreffpunkt: 16:15 Uhr \nSpielbeginn: 16:30 Uhr \nMarschgabel mitbringen!
URL:https://www.stadtkapelle-eichstaett.de/event/csu-neujahsempfang/
LOCATION:Asthe\, Residenzpl. 17\, Eichstätt\, 85072\, Deutschland
CATEGORIES:Stadtkapelle
GEO:48.8908878;11.1836289
X-APPLE-STRUCTURED-LOCATION;VALUE=URI;X-ADDRESS=Asthe Residenzpl. 17 Eichstätt 85072 Deutschland;X-APPLE-RADIUS=500;X-TITLE=Residenzpl. 17:geo:11.1836289,48.8908878
END:VEVENT
BEGIN:VEVENT
DTSTART;TZID=Europe/Berlin:20190704T193000
DTEND;TZID=Europe/Berlin:20190704T210000
DTSTAMP:20260424T091944
CREATED:20181112T205325Z
LAST-MODIFIED:20181112T205417Z
UID:10000163-1562268600-1562274000@www.stadtkapelle-eichstaett.de
SUMMARY:Bepo Meiterschaften
DESCRIPTION:Besetzung: Stadtkapelle \nKleidung: Tracht \nTreffpunkt: 19:00 Uhr \nSpielbeginn: 19:30 Uhr \nNotenständer mitbringen!
URL:https://www.stadtkapelle-eichstaett.de/event/bepo-meiterschaften/
LOCATION:Asthe\, Residenzpl. 17\, Eichstätt\, 85072\, Deutschland
CATEGORIES:Stadtkapelle
GEO:48.8908878;11.1836289
X-APPLE-STRUCTURED-LOCATION;VALUE=URI;X-ADDRESS=Asthe Residenzpl. 17 Eichstätt 85072 Deutschland;X-APPLE-RADIUS=500;X-TITLE=Residenzpl. 17:geo:11.1836289,48.8908878
END:VEVENT
BEGIN:VEVENT
DTSTART;TZID=Europe/Berlin:20190316T190000
DTEND;TZID=Europe/Berlin:20190316T233000
DTSTAMP:20260424T091944
CREATED:20181030T173107Z
LAST-MODIFIED:20181105T164828Z
UID:10000022-1552762800-1552779000@www.stadtkapelle-eichstaett.de
SUMMARY:Bockbierfest - BB
DESCRIPTION:Besetzung: Bayerisch Böhmisch \nKleidung: Bayerisch \nTreffpunkt: 18:00 Uhr \nSpielbeginn: 19:00 Uhr \nNoten: kleine Mappen \nNotenständer mitbringen!
URL:https://www.stadtkapelle-eichstaett.de/event/bockbierfest-bb-2/
LOCATION:Asthe\, Residenzpl. 17\, Eichstätt\, 85072\, Deutschland
CATEGORIES:Stadtkapelle
GEO:48.8908878;11.1836289
X-APPLE-STRUCTURED-LOCATION;VALUE=URI;X-ADDRESS=Asthe Residenzpl. 17 Eichstätt 85072 Deutschland;X-APPLE-RADIUS=500;X-TITLE=Residenzpl. 17:geo:11.1836289,48.8908878
END:VEVENT
BEGIN:VEVENT
DTSTART;TZID=Europe/Berlin:20190315T190000
DTEND;TZID=Europe/Berlin:20190315T233000
DTSTAMP:20260424T091944
CREATED:20181030T172932Z
LAST-MODIFIED:20181105T164833Z
UID:10000021-1552676400-1552692600@www.stadtkapelle-eichstaett.de
SUMMARY:Bockbierfest - BB
DESCRIPTION:Besetzung: Bayerisch Böhmisch \nKleidung: Bayerisch \nTreffpunkt: 18:00 Uhr \nSpielbeginn: 19:00 Uhr \nNoten: kleine Mappen \nNotenständer mitbringen!
URL:https://www.stadtkapelle-eichstaett.de/event/bockbierfest-bb/
LOCATION:Asthe\, Residenzpl. 17\, Eichstätt\, 85072\, Deutschland
CATEGORIES:Stadtkapelle
GEO:48.8908878;11.1836289
X-APPLE-STRUCTURED-LOCATION;VALUE=URI;X-ADDRESS=Asthe Residenzpl. 17 Eichstätt 85072 Deutschland;X-APPLE-RADIUS=500;X-TITLE=Residenzpl. 17:geo:11.1836289,48.8908878
END:VEVENT
BEGIN:VEVENT
DTSTART;TZID=Europe/Berlin:20190120T093000
DTEND;TZID=Europe/Berlin:20190120T120000
DTSTAMP:20260424T091944
CREATED:20190109T074257Z
LAST-MODIFIED:20190115T195305Z
UID:10000031-1547976600-1547985600@www.stadtkapelle-eichstaett.de
SUMMARY:Neujahrsempfang der Stadt Eichstätt
DESCRIPTION:Besetzung: Stadtkapelle \nKleidung: Tracht \nTreffpunkt: 10:00 Uhr \nSpielbeginn: 10:30 Uhr \nNotenständer mitbringen!
URL:https://www.stadtkapelle-eichstaett.de/event/neujahrsempfang-der-stadt-eichstaett/
LOCATION:Asthe\, Residenzpl. 17\, Eichstätt\, 85072\, Deutschland
CATEGORIES:Stadtkapelle
GEO:48.8908878;11.1836289
X-APPLE-STRUCTURED-LOCATION;VALUE=URI;X-ADDRESS=Asthe Residenzpl. 17 Eichstätt 85072 Deutschland;X-APPLE-RADIUS=500;X-TITLE=Residenzpl. 17:geo:11.1836289,48.8908878
END:VEVENT
END:VCALENDAR