BEGIN:VCALENDAR
VERSION:2.0
PRODID:-//Stadtkapelle Eichstätt e.V. - ECPv6.14.2//NONSGML v1.0//EN
CALSCALE:GREGORIAN
METHOD:PUBLISH
X-WR-CALNAME:Stadtkapelle Eichstätt e.V.
X-ORIGINAL-URL:https://www.stadtkapelle-eichstaett.de
X-WR-CALDESC:Veranstaltungen für Stadtkapelle Eichstätt e.V.
REFRESH-INTERVAL;VALUE=DURATION:PT1H
X-Robots-Tag:noindex
X-PUBLISHED-TTL:PT1H
BEGIN:VTIMEZONE
TZID:Europe/Berlin
BEGIN:DAYLIGHT
TZOFFSETFROM:+0100
TZOFFSETTO:+0200
TZNAME:CEST
DTSTART:20180325T010000
END:DAYLIGHT
BEGIN:STANDARD
TZOFFSETFROM:+0200
TZOFFSETTO:+0100
TZNAME:CET
DTSTART:20181028T010000
END:STANDARD
BEGIN:DAYLIGHT
TZOFFSETFROM:+0100
TZOFFSETTO:+0200
TZNAME:CEST
DTSTART:20190331T010000
END:DAYLIGHT
BEGIN:STANDARD
TZOFFSETFROM:+0200
TZOFFSETTO:+0100
TZNAME:CET
DTSTART:20191027T010000
END:STANDARD
BEGIN:DAYLIGHT
TZOFFSETFROM:+0100
TZOFFSETTO:+0200
TZNAME:CEST
DTSTART:20200329T010000
END:DAYLIGHT
BEGIN:STANDARD
TZOFFSETFROM:+0200
TZOFFSETTO:+0100
TZNAME:CET
DTSTART:20201025T010000
END:STANDARD
BEGIN:DAYLIGHT
TZOFFSETFROM:+0100
TZOFFSETTO:+0200
TZNAME:CEST
DTSTART:20210328T010000
END:DAYLIGHT
BEGIN:STANDARD
TZOFFSETFROM:+0200
TZOFFSETTO:+0100
TZNAME:CET
DTSTART:20211031T010000
END:STANDARD
BEGIN:DAYLIGHT
TZOFFSETFROM:+0100
TZOFFSETTO:+0200
TZNAME:CEST
DTSTART:20220327T010000
END:DAYLIGHT
BEGIN:STANDARD
TZOFFSETFROM:+0200
TZOFFSETTO:+0100
TZNAME:CET
DTSTART:20221030T010000
END:STANDARD
END:VTIMEZONE
BEGIN:VEVENT
DTSTART;TZID=Europe/Berlin:20220527T183000
DTEND;TZID=Europe/Berlin:20220527T210000
DTSTAMP:20260424T091329
CREATED:20220405T162205Z
LAST-MODIFIED:20220405T162205Z
UID:10000210-1653676200-1653685200@www.stadtkapelle-eichstaett.de
SUMMARY:Generalprobe
DESCRIPTION:Besetzung: Alle \nKleidung: Zivil \nTreffpunkt: 18:30 Uhr \nSpielbeginn: 19:00 Uhr \nNotenständer mitbringen!
URL:https://www.stadtkapelle-eichstaett.de/event/generalprobe-4/
LOCATION:Rebdorf\, Pater-Moser-Straße 3\, Eichstätt\, 85072\, Deutschland
CATEGORIES:Stadtkapelle
GEO:48.8877636;11.1673097
X-APPLE-STRUCTURED-LOCATION;VALUE=URI;X-ADDRESS=Rebdorf Pater-Moser-Straße 3 Eichstätt 85072 Deutschland;X-APPLE-RADIUS=500;X-TITLE=Pater-Moser-Straße 3:geo:11.1673097,48.8877636
END:VEVENT
BEGIN:VEVENT
DTSTART;VALUE=DATE:20220304
DTEND;VALUE=DATE:20220307
DTSTAMP:20260424T091329
CREATED:20210728T181145Z
LAST-MODIFIED:20210728T181600Z
UID:10000205-1646352000-1646611199@www.stadtkapelle-eichstaett.de
SUMMARY:Probenwochenende
DESCRIPTION:Besetzung: Alle \nKleidung: \nTreffpunkt: \nSpielbeginn: \nNotenständer mitbringen! \n 
URL:https://www.stadtkapelle-eichstaett.de/event/probenwochenende-5/
LOCATION:Rebdorf\, Pater-Moser-Straße 3\, Eichstätt\, 85072\, Deutschland
CATEGORIES:Stadtkapelle
GEO:48.8877636;11.1673097
X-APPLE-STRUCTURED-LOCATION;VALUE=URI;X-ADDRESS=Rebdorf Pater-Moser-Straße 3 Eichstätt 85072 Deutschland;X-APPLE-RADIUS=500;X-TITLE=Pater-Moser-Straße 3:geo:11.1673097,48.8877636
END:VEVENT
BEGIN:VEVENT
DTSTART;VALUE=DATE:20200214
DTEND;VALUE=DATE:20200217
DTSTAMP:20260424T091329
CREATED:20191120T173700Z
LAST-MODIFIED:20200204T180448Z
UID:10000195-1581638400-1581897599@www.stadtkapelle-eichstaett.de
SUMMARY:Probenwochenende
DESCRIPTION:Freitag: 19:30 im Musikerheim \nSamstag: 09:00 in Rebdorf (Aula) bis 17:00 Uhr \nSonntag: 09:00 in Rebdorf (Turnhalle) bis 12:00 Uhr
URL:https://www.stadtkapelle-eichstaett.de/event/probenwochenende-4/
LOCATION:Rebdorf\, Pater-Moser-Straße 3\, Eichstätt\, 85072\, Deutschland
CATEGORIES:Stadtkapelle
GEO:48.8877636;11.1673097
X-APPLE-STRUCTURED-LOCATION;VALUE=URI;X-ADDRESS=Rebdorf Pater-Moser-Straße 3 Eichstätt 85072 Deutschland;X-APPLE-RADIUS=500;X-TITLE=Pater-Moser-Straße 3:geo:11.1673097,48.8877636
END:VEVENT
BEGIN:VEVENT
DTSTART;TZID=Europe/Berlin:20181230T100000
DTEND;TZID=Europe/Berlin:20181230T140000
DTSTAMP:20260424T091329
CREATED:20181030T172514Z
LAST-MODIFIED:20181228T101156Z
UID:10000157-1546164000-1546178400@www.stadtkapelle-eichstaett.de
SUMMARY:Jahresabschluss Messe / Essen
DESCRIPTION:Besetzung: Klarinetten und Blechbläser Ensemble \nKleidung: Tracht \nTreffpunkt: 09:45 Uhr \nSpielbeginn: 10:00 Uhr \nEssen findet im Festsaal in Rebdorf statt.
URL:https://www.stadtkapelle-eichstaett.de/event/jahresabschluss-messe-essen/
LOCATION:Rebdorf\, Pater-Moser-Straße 3\, Eichstätt\, 85072\, Deutschland
CATEGORIES:Jugendstadtkapelle,Musikfinken,Stadtkapelle
GEO:48.8877636;11.1673097
X-APPLE-STRUCTURED-LOCATION;VALUE=URI;X-ADDRESS=Rebdorf Pater-Moser-Straße 3 Eichstätt 85072 Deutschland;X-APPLE-RADIUS=500;X-TITLE=Pater-Moser-Straße 3:geo:11.1673097,48.8877636
END:VEVENT
END:VCALENDAR