BEGIN:VCALENDAR
VERSION:2.0
PRODID:-//Stadtkapelle Eichstätt e.V. - ECPv6.14.2//NONSGML v1.0//EN
CALSCALE:GREGORIAN
METHOD:PUBLISH
X-WR-CALNAME:Stadtkapelle Eichstätt e.V.
X-ORIGINAL-URL:https://www.stadtkapelle-eichstaett.de
X-WR-CALDESC:Veranstaltungen für Stadtkapelle Eichstätt e.V.
REFRESH-INTERVAL;VALUE=DURATION:PT1H
X-Robots-Tag:noindex
X-PUBLISHED-TTL:PT1H
BEGIN:VTIMEZONE
TZID:Europe/Berlin
BEGIN:DAYLIGHT
TZOFFSETFROM:+0100
TZOFFSETTO:+0200
TZNAME:CEST
DTSTART:20230326T010000
END:DAYLIGHT
BEGIN:STANDARD
TZOFFSETFROM:+0200
TZOFFSETTO:+0100
TZNAME:CET
DTSTART:20231029T010000
END:STANDARD
END:VTIMEZONE
BEGIN:VEVENT
DTSTART;TZID=Europe/Berlin:20230611T130000
DTEND;TZID=Europe/Berlin:20230611T160000
DTSTAMP:20260423T015641
CREATED:20200911T164653Z
LAST-MODIFIED:20210514T191139Z
UID:10000068-1686488400-1686499200@www.stadtkapelle-eichstaett.de
SUMMARY:Umzug FFW Workerszell
DESCRIPTION:Besetzung: Alle \nKleidung: Tracht \nTreffpunkt: 13:00 Uhr \nSpielbeginn: 14:00 Uhr \nMarschgabel mitbringen!
URL:https://www.stadtkapelle-eichstaett.de/event/umzug-ffw-workerszell-2/
LOCATION:Workerszell\, Workerszell\, Deutschland
CATEGORIES:Stadtkapelle
GEO:48.9262399;11.1500024
END:VEVENT
END:VCALENDAR